BEGIN:VCALENDAR
VERSION:2.0
PRODID:-//Absorbent Minds Montessori School - ECPv6.15.1.1//NONSGML v1.0//EN
CALSCALE:GREGORIAN
METHOD:PUBLISH
X-WR-CALNAME:Absorbent Minds Montessori School
X-ORIGINAL-URL:https://thesmarterkids.com
X-WR-CALDESC:Events for Absorbent Minds Montessori School
REFRESH-INTERVAL;VALUE=DURATION:PT1H
X-Robots-Tag:noindex
X-PUBLISHED-TTL:PT1H
BEGIN:VTIMEZONE
TZID:America/New_York
BEGIN:DAYLIGHT
TZOFFSETFROM:-0500
TZOFFSETTO:-0400
TZNAME:EDT
DTSTART:20150308T070000
END:DAYLIGHT
BEGIN:STANDARD
TZOFFSETFROM:-0400
TZOFFSETTO:-0500
TZNAME:EST
DTSTART:20151101T060000
END:STANDARD
BEGIN:DAYLIGHT
TZOFFSETFROM:-0500
TZOFFSETTO:-0400
TZNAME:EDT
DTSTART:20160313T070000
END:DAYLIGHT
BEGIN:STANDARD
TZOFFSETFROM:-0400
TZOFFSETTO:-0500
TZNAME:EST
DTSTART:20161106T060000
END:STANDARD
END:VTIMEZONE
BEGIN:VEVENT
DTSTART;VALUE=DATE:20161027
DTEND;VALUE=DATE:20161029
DTSTAMP:20260419T195855
CREATED:20161018T172718Z
LAST-MODIFIED:20161018T172718Z
UID:5959-1477598400-1477684799@thesmarterkids.com
SUMMARY:No Dance Class | Tallmadge
DESCRIPTION:
URL:https://thesmarterkids.com/event/no-dance-class-tallmadge/
LOCATION:Tallmadge Campus\, 158 North Avenue\, Tallmadge\, OH\, 44278\, United States
CATEGORIES:Tallmadge
END:VEVENT
BEGIN:VEVENT
DTSTART;TZID=America/New_York:20161004T043000
DTEND;TZID=America/New_York:20161004T070000
DTSTAMP:20260419T195855
CREATED:20160822T050317Z
LAST-MODIFIED:20160914T055600Z
UID:5564-1475555400-1475564400@thesmarterkids.com
SUMMARY:School Picture Day | Tallmadge
DESCRIPTION:
URL:https://thesmarterkids.com/event/school-picture-day-tallmadge/
LOCATION:Tallmadge Campus\, 158 North Avenue\, Tallmadge\, OH\, 44278\, United States
CATEGORIES:Tallmadge
END:VEVENT
BEGIN:VEVENT
DTSTART;VALUE=DATE:20160922
DTEND;VALUE=DATE:20160924
DTSTAMP:20260419T195855
CREATED:20160921T221510Z
LAST-MODIFIED:20160921T221510Z
UID:5697-1474574400-1474660799@thesmarterkids.com
SUMMARY:Dance | Session 1 Begins | Tallmadge
DESCRIPTION:
URL:https://thesmarterkids.com/event/dance-session-1-begins-tallmadge/
LOCATION:Tallmadge Campus\, 158 North Avenue\, Tallmadge\, OH\, 44278\, United States
CATEGORIES:Tallmadge
END:VEVENT
BEGIN:VEVENT
DTSTART;VALUE=DATE:20160908
DTEND;VALUE=DATE:20160910
DTSTAMP:20260419T195855
CREATED:20160822T050317Z
LAST-MODIFIED:20160914T055559Z
UID:5559-1473364800-1473451199@thesmarterkids.com
SUMMARY:Dance Demo Day | Tallmadge
DESCRIPTION:
URL:https://thesmarterkids.com/event/dance-demo-day-tallmadge/
LOCATION:Tallmadge Campus\, 158 North Avenue\, Tallmadge\, OH\, 44278\, United States
CATEGORIES:Tallmadge
END:VEVENT
BEGIN:VEVENT
DTSTART;TZID=America/New_York:20160816T150000
DTEND;TZID=America/New_York:20160816T160000
DTSTAMP:20260419T195855
CREATED:20160525T195102Z
LAST-MODIFIED:20160525T195102Z
UID:5360-1471359600-1471363200@thesmarterkids.com
SUMMARY:Grades 1-6 Meet the Teacher Night
DESCRIPTION:Before the school year begins we want you and your child to be familiar with your teachers and classroom. The week before school we offer Meet the Teacher Night\, where you and your family will come to school and your child’s teacher will talk to you about their plans and expectations for the school year. This event is also a great way to acclimate your child to the drop off procedure so they know what to expect on the first day.
URL:https://thesmarterkids.com/event/grades-1-6-meet-the-teacher-night/
LOCATION:Tallmadge Campus\, 158 North Avenue\, Tallmadge\, OH\, 44278\, United States
CATEGORIES:Tallmadge
END:VEVENT
BEGIN:VEVENT
DTSTART;TZID=America/New_York:20160816T133000
DTEND;TZID=America/New_York:20160816T143000
DTSTAMP:20260419T195855
CREATED:20160525T194309Z
LAST-MODIFIED:20160525T194309Z
UID:5359-1471354200-1471357800@thesmarterkids.com
SUMMARY:Ms. Courtney's Meet the Teacher Night
DESCRIPTION:Before the school year begins we want you and your child to be familiar with your teachers and classroom. The week before school we offer Meet the Teacher Night\, where you and your family will come to school and your child’s teacher will talk to you about their plans and expectations for the school year. This event is also a great way to acclimate your child to the drop off procedure so they know what to expect on the first day.
URL:https://thesmarterkids.com/event/ms-courtneys-meet-the-teacher-night/
LOCATION:Tallmadge Campus\, 158 North Avenue\, Tallmadge\, OH\, 44278\, United States
CATEGORIES:Tallmadge
END:VEVENT
BEGIN:VEVENT
DTSTART;TZID=America/New_York:20160603T143000
DTEND;TZID=America/New_York:20160603T160000
DTSTAMP:20260419T195855
CREATED:20140515T215448Z
LAST-MODIFIED:20150809T203533Z
UID:405-1464964200-1464969600@thesmarterkids.com
SUMMARY:Kindergarten Graduation
DESCRIPTION:Graduating from Kindergarten is a once in a lifetime milestone we celebrate at Absorbent Minds Montessori School. Our kindergarten students work diligently during their experience with us and this is a very special event just for them. Parents\, Grandparents\, Aunts and Uncles come to praise the successes of our students as they are presented with a special Paper Plate award\, and kindergarten diploma.
URL:https://thesmarterkids.com/event/kindergarten-graduation-2/
LOCATION:Cuyahoga Falls Campus\, 130 Broad Blvd\, Cuyahoga Falls\, OH\, 44221\, United States
CATEGORIES:All School,Cuyahoga Falls,Tallmadge
END:VEVENT
BEGIN:VEVENT
DTSTART;VALUE=DATE:20160601
DTEND;VALUE=DATE:20160603
DTSTAMP:20260419T195855
CREATED:20140515T215358Z
LAST-MODIFIED:20150809T203030Z
UID:404-1464811200-1464897599@thesmarterkids.com
SUMMARY:Last Day of School
DESCRIPTION:On the last day of school before summer break we splash around our playground. From water balloons to wet-n-wild relay races our students enjoy playing games and kicking off the summer season during Field Day.
URL:https://thesmarterkids.com/event/last-day-school/
LOCATION:OH
CATEGORIES:All School,Cuyahoga Falls,Tallmadge
END:VEVENT
BEGIN:VEVENT
DTSTART;VALUE=DATE:20160529
DTEND;VALUE=DATE:20160531
DTSTAMP:20260419T195855
CREATED:20140515T214756Z
LAST-MODIFIED:20150809T202945Z
UID:397-1464552000-1464638399@thesmarterkids.com
SUMMARY:Memorial Day | NO SCHOOL
DESCRIPTION:
URL:https://thesmarterkids.com/event/memorial-day-school/
LOCATION:OH
CATEGORIES:All School,Cuyahoga Falls,No School,Tallmadge
END:VEVENT
BEGIN:VEVENT
DTSTART;TZID=America/New_York:20160523T100000
DTEND;TZID=America/New_York:20160523T103000
DTSTAMP:20260419T195855
CREATED:20141007T055405Z
LAST-MODIFIED:20150813T171320Z
UID:1368-1463997600-1463999400@thesmarterkids.com
SUMMARY:Tae Kwon Do Belt Test | Session 5 | Tallmadge Campus
DESCRIPTION:
URL:https://thesmarterkids.com/event/tae-kwon-belt-test-session-5-tallmadge-campus/
LOCATION:Tallmadge Campus\, 158 North Avenue\, Tallmadge\, OH\, 44278\, United States
CATEGORIES:Tallmadge
END:VEVENT
BEGIN:VEVENT
DTSTART;VALUE=DATE:20160511
DTEND;VALUE=DATE:20160513
DTSTAMP:20260419T195855
CREATED:20160404T062859Z
LAST-MODIFIED:20160404T062859Z
UID:4976-1462996800-1463083199@thesmarterkids.com
SUMMARY:Grandparent's Day | Elementary Class
DESCRIPTION:Our grandparents will receive invitations including further detail on the time they are invited to join their grandchild’s class. Grandparents will participate in enrichment activities\, a craft and classroom time with their grandchild. This is a wonderful time together!
URL:https://thesmarterkids.com/event/grandparents-day-elementary-class/
LOCATION:Tallmadge Campus\, 158 North Avenue\, Tallmadge\, OH\, 44278\, United States
CATEGORIES:Tallmadge
END:VEVENT
BEGIN:VEVENT
DTSTART;VALUE=DATE:20160510
DTEND;VALUE=DATE:20160512
DTSTAMP:20260419T195855
CREATED:20160404T062506Z
LAST-MODIFIED:20160404T062506Z
UID:4974-1462910400-1462996799@thesmarterkids.com
SUMMARY:Grandparent's Day | Ms. Courtney's Class
DESCRIPTION:Our grandparents will receive invitations including further detail on the time they are invited to join their grandchild’s class. Grandparents will participate in enrichment activities\, a craft and classroom time with their grandchild. This is a wonderful time together!
URL:https://thesmarterkids.com/event/grandparents-day-ms-courtneys-class-2/
LOCATION:Tallmadge Campus\, 158 North Avenue\, Tallmadge\, OH\, 44278\, United States
CATEGORIES:Tallmadge
END:VEVENT
BEGIN:VEVENT
DTSTART;TZID=America/New_York:20160506T030000
DTEND;TZID=America/New_York:20160506T040000
DTSTAMP:20260419T195855
CREATED:20140515T214529Z
LAST-MODIFIED:20150809T202813Z
UID:394-1462503600-1462507200@thesmarterkids.com
SUMMARY:Moms-N-Muffins
DESCRIPTION:Mothers deserve to be celebrated! We invite Moms to join their child for breakfast at Moms-N-Muffins. Students always have a special gift for their parents at these events.
URL:https://thesmarterkids.com/event/moms-n-muffins-2/
LOCATION:OH
CATEGORIES:All School,Cuyahoga Falls,Tallmadge
END:VEVENT
BEGIN:VEVENT
DTSTART;TZID=America/New_York:20160429T140000
DTEND;TZID=America/New_York:20160429T160000
DTSTAMP:20260419T195855
CREATED:20140515T205048Z
LAST-MODIFIED:20160413T215911Z
UID:393-1461938400-1461945600@thesmarterkids.com
SUMMARY:International Festival | No Afterschool care available (student pickup by 3:15pm)
DESCRIPTION:Every spring our students become world travelers as we journey around the globe in preparation for our International Festival. This is a unique event where each student chooses a county to learn about and represent. During the month of April\, they learn about the geography\, culture\, and language of their country. Students learn to say hello and goodbye in their country’s native language and a fact about their chosen country. At our Festival\, each child will be handed a microphone and given the opportunity to share their fact to the audience. \nSpecial Note:  No Aftercare available. Student pickup at end of school day 3:00pm
URL:https://thesmarterkids.com/event/international-festival-2/
LOCATION:Cuyahoga Falls High School Auditorium\, 2300 4th St.\, Cuyahoga Falls\, OH\, 44221\, United States
CATEGORIES:All School,Cuyahoga Falls,Tallmadge
END:VEVENT
BEGIN:VEVENT
DTSTART;TZID=America/New_York:20160428T140000
DTEND;TZID=America/New_York:20160428T160000
DTSTAMP:20260419T195855
CREATED:20140515T204958Z
LAST-MODIFIED:20160413T180559Z
UID:392-1461852000-1461859200@thesmarterkids.com
SUMMARY:International Festival Rehearsal
DESCRIPTION:
URL:https://thesmarterkids.com/event/international-festival-rehearsal-2/
LOCATION:Cuyahoga Falls High School Auditorium\, 2300 4th St.\, Cuyahoga Falls\, OH\, 44221\, United States
CATEGORIES:All School,Cuyahoga Falls,Tallmadge
END:VEVENT
BEGIN:VEVENT
DTSTART;TZID=America/New_York:20160408T030000
DTEND;TZID=America/New_York:20160408T040000
DTSTAMP:20260419T195855
CREATED:20140515T204611Z
LAST-MODIFIED:20150809T201927Z
UID:391-1460084400-1460088000@thesmarterkids.com
SUMMARY:Dads-N-Donuts
DESCRIPTION:Fathers deserve to be celebrated! We invite Dads to join their child for breakfast at Dads-N-Donuts. Students always have a special gift for their parents at these events.
URL:https://thesmarterkids.com/event/dads-n-donuts-2/
LOCATION:OH
CATEGORIES:All School,Cuyahoga Falls,Tallmadge
END:VEVENT
BEGIN:VEVENT
DTSTART;VALUE=DATE:20160403
DTEND;VALUE=DATE:20160405
DTSTAMP:20260419T195855
CREATED:20140515T204306Z
LAST-MODIFIED:20150809T201820Z
UID:390-1459713600-1459799999@thesmarterkids.com
SUMMARY:School Resumes
DESCRIPTION:
URL:https://thesmarterkids.com/event/school-resumes-3/
LOCATION:OH
CATEGORIES:All School,Cuyahoga Falls,Tallmadge
END:VEVENT
BEGIN:VEVENT
DTSTART;VALUE=DATE:20160324
DTEND;VALUE=DATE:20160326
DTSTAMP:20260419T195855
CREATED:20140515T204121Z
LAST-MODIFIED:20150809T201700Z
UID:388-1458849600-1458935999@thesmarterkids.com
SUMMARY:Pajama & Show-N-Tell Day
DESCRIPTION:
URL:https://thesmarterkids.com/event/pajama-show-n-tell-day-3/
LOCATION:OH
CATEGORIES:All School,Cuyahoga Falls,Tallmadge
END:VEVENT
BEGIN:VEVENT
DTSTART;VALUE=DATE:20160225
DTEND;VALUE=DATE:20160227
DTSTAMP:20260419T195855
CREATED:20150813T171804Z
LAST-MODIFIED:20150813T172331Z
UID:3157-1456426800-1456513199@thesmarterkids.com
SUMMARY:No School for Elem Students ONLY (Elem P/T Conferences)
DESCRIPTION:Primary Students (Preschool-Kindergarten) program IN SESSION today.
URL:https://thesmarterkids.com/event/no-school-elementary-parentteacher-conferences/
LOCATION:OH
CATEGORIES:Tallmadge
END:VEVENT
BEGIN:VEVENT
DTSTART;VALUE=DATE:20160214
DTEND;VALUE=DATE:20160216
DTSTAMP:20260419T195855
CREATED:20140515T203341Z
LAST-MODIFIED:20150809T201526Z
UID:384-1455476400-1455562799@thesmarterkids.com
SUMMARY:President’s Day | NO SCHOOL
DESCRIPTION:
URL:https://thesmarterkids.com/event/presidents-day-school/
LOCATION:OH
CATEGORIES:All School,Cuyahoga Falls,No School,Tallmadge
END:VEVENT
BEGIN:VEVENT
DTSTART;VALUE=DATE:20160211
DTEND;VALUE=DATE:20160213
DTSTAMP:20260419T195855
CREATED:20140515T203135Z
LAST-MODIFIED:20150809T201421Z
UID:382-1455217200-1455303599@thesmarterkids.com
SUMMARY:Valentine’s Day Party
DESCRIPTION:
URL:https://thesmarterkids.com/event/valentines-day-party-2/
LOCATION:OH
CATEGORIES:All School,Cuyahoga Falls,Tallmadge
END:VEVENT
BEGIN:VEVENT
DTSTART;TZID=America/New_York:20160123T040000
DTEND;TZID=America/New_York:20160123T070000
DTSTAMP:20260419T195855
CREATED:20140129T223559Z
LAST-MODIFIED:20150809T201213Z
UID:251-1453521600-1453532400@thesmarterkids.com
SUMMARY:Tallmadge Open House
DESCRIPTION:Absorbent Minds Montessori School Open House Saturday\, January 24th from 9:00am-12:00pm!  Located inside St. Mark Lutheran Church\, on 91 just North of Tallmadge Circle\, we offer an unparalleled Montessori Preschool – 6th Grade education.  Language\, Math\, Science\, Geography\, Art\, Music\, Gymnastics\, Tae Kwon Do\, Certified Teachers\, Custom Scheduling Options.
URL:https://thesmarterkids.com/event/tallmadge-open-house/
LOCATION:Tallmadge Campus\, 158 North Avenue\, Tallmadge\, OH\, 44278\, United States
CATEGORIES:Tallmadge
END:VEVENT
BEGIN:VEVENT
DTSTART;VALUE=DATE:20151029
DTEND;VALUE=DATE:20151031
DTSTAMP:20260419T195855
CREATED:20140515T193925Z
LAST-MODIFIED:20150809T195834Z
UID:369-1446148800-1446235199@thesmarterkids.com
SUMMARY:Halloween Class Parties
DESCRIPTION:Costumes and candy! What could be more fun? Our students love wearing their Halloween costume to school and we love seeing them. Every Halloween we host a party for students to create crafts\, play Halloween themed games and eat yummy treats at school. We invite parents to join in the fun too!
URL:https://thesmarterkids.com/event/halloween-party-2/
LOCATION:OH
CATEGORIES:Cuyahoga Falls,Tallmadge
END:VEVENT
BEGIN:VEVENT
DTSTART;TZID=America/New_York:20151026T100000
DTEND;TZID=America/New_York:20151026T103000
DTSTAMP:20260419T195855
CREATED:20141007T053414Z
LAST-MODIFIED:20150819T072514Z
UID:1363-1445853600-1445855400@thesmarterkids.com
SUMMARY:Tae Kwon Do Belt Test | Session 1 | Tallmadge Campus
DESCRIPTION:
URL:https://thesmarterkids.com/event/tae-kwon-belt-test-session-1-tallmadge-campus/
LOCATION:Tallmadge Campus\, 158 North Avenue\, Tallmadge\, OH\, 44278\, United States
CATEGORIES:Tallmadge
END:VEVENT
BEGIN:VEVENT
DTSTART;VALUE=DATE:20151004
DTEND;VALUE=DATE:20151010
DTSTAMP:20260419T195855
CREATED:20150819T074415Z
LAST-MODIFIED:20150819T074415Z
UID:3167-1443988800-1444420799@thesmarterkids.com
SUMMARY:Food Drive Collection Week | All School
DESCRIPTION:
URL:https://thesmarterkids.com/event/food-drive-collection-week-all-school/
LOCATION:OH
CATEGORIES:All School,Cuyahoga Falls,Tallmadge
END:VEVENT
BEGIN:VEVENT
DTSTART;TZID=America/New_York:20151001T043000
DTEND;TZID=America/New_York:20151001T070000
DTSTAMP:20260419T195855
CREATED:20131021T022800Z
LAST-MODIFIED:20150809T195723Z
UID:150-1443673800-1443682800@thesmarterkids.com
SUMMARY:Picture Day Tallmadge
DESCRIPTION:
URL:https://thesmarterkids.com/event/picture-day/
LOCATION:Tallmadge Campus\, 158 North Avenue\, Tallmadge\, OH\, 44278\, United States
CATEGORIES:Tallmadge
END:VEVENT
BEGIN:VEVENT
DTSTART;VALUE=DATE:20150930
DTEND;VALUE=DATE:20151002
DTSTAMP:20260419T195855
CREATED:20150819T073707Z
LAST-MODIFIED:20150819T073707Z
UID:3166-1443643200-1443729599@thesmarterkids.com
SUMMARY:Dance | Start of Session 1 | Tallmadge
DESCRIPTION:
URL:https://thesmarterkids.com/event/dance-start-of-session-1-tallmadge/
LOCATION:OH
CATEGORIES:Tallmadge
END:VEVENT
BEGIN:VEVENT
DTSTART;VALUE=DATE:20150920
DTEND;VALUE=DATE:20150922
DTSTAMP:20260419T195855
CREATED:20150819T072758Z
LAST-MODIFIED:20150819T072758Z
UID:3164-1442779200-1442865599@thesmarterkids.com
SUMMARY:Tae Kwon Do | Start of Session 1
DESCRIPTION:
URL:https://thesmarterkids.com/event/tae-kwon-do-start-of-session-1/
LOCATION:OH
CATEGORIES:Cuyahoga Falls,Tallmadge
END:VEVENT
BEGIN:VEVENT
DTSTART;VALUE=DATE:20150830
DTEND;VALUE=DATE:20150905
DTSTAMP:20260419T195855
CREATED:20150817T074554Z
LAST-MODIFIED:20150817T074751Z
UID:3159-1440964800-1441396799@thesmarterkids.com
SUMMARY:Enrichment Classes begin | All School
DESCRIPTION:
URL:https://thesmarterkids.com/event/enrichment-classes-begin/
LOCATION:OH
CATEGORIES:Cuyahoga Falls,Tallmadge
END:VEVENT
BEGIN:VEVENT
DTSTART;VALUE=DATE:20150824
DTEND;VALUE=DATE:20150826
DTSTAMP:20260419T195855
CREATED:20150514T191959Z
LAST-MODIFIED:20150515T073854Z
UID:352-1440446400-1440532799@thesmarterkids.com
SUMMARY:First Day of School | Tallmadge
DESCRIPTION:
URL:https://thesmarterkids.com/event/first-day-school-tallmadge/
LOCATION:Tallmadge Campus\, 158 North Avenue\, Tallmadge\, OH\, 44278\, United States
CATEGORIES:Tallmadge
END:VEVENT
END:VCALENDAR