BEGIN:VCALENDAR
VERSION:2.0
PRODID:-//Absorbent Minds Montessori School - ECPv6.15.1.1//NONSGML v1.0//EN
CALSCALE:GREGORIAN
METHOD:PUBLISH
X-ORIGINAL-URL:https://thesmarterkids.com
X-WR-CALDESC:Events for Absorbent Minds Montessori School
REFRESH-INTERVAL;VALUE=DURATION:PT1H
X-Robots-Tag:noindex
X-PUBLISHED-TTL:PT1H
BEGIN:VTIMEZONE
TZID:America/New_York
BEGIN:DAYLIGHT
TZOFFSETFROM:-0500
TZOFFSETTO:-0400
TZNAME:EDT
DTSTART:20160313T070000
END:DAYLIGHT
BEGIN:STANDARD
TZOFFSETFROM:-0400
TZOFFSETTO:-0500
TZNAME:EST
DTSTART:20161106T060000
END:STANDARD
BEGIN:DAYLIGHT
TZOFFSETFROM:-0500
TZOFFSETTO:-0400
TZNAME:EDT
DTSTART:20170312T070000
END:DAYLIGHT
BEGIN:STANDARD
TZOFFSETFROM:-0400
TZOFFSETTO:-0500
TZNAME:EST
DTSTART:20171105T060000
END:STANDARD
BEGIN:DAYLIGHT
TZOFFSETFROM:-0500
TZOFFSETTO:-0400
TZNAME:EDT
DTSTART:20180311T070000
END:DAYLIGHT
BEGIN:STANDARD
TZOFFSETFROM:-0400
TZOFFSETTO:-0500
TZNAME:EST
DTSTART:20181104T060000
END:STANDARD
END:VTIMEZONE
BEGIN:VEVENT
DTSTART;TZID=America/New_York:20180227T040000
DTEND;TZID=America/New_York:20180227T061500
DTSTAMP:20260419T164756
CREATED:20170926T191208Z
LAST-MODIFIED:20170926T192638Z
UID:8444-1519704000-1519712100@thesmarterkids.com
SUMMARY:Bring Your Parent to Work Time | Elementary
DESCRIPTION:Parents\, it is your turn to join your child in the classroom! Bring Your Parent to Work Time is your opportunity to learn right along side your son or daughter. This time gives you a chance to work with your child on the skills they are mastering\, explore all that the Montessori Classroom has to offer and ask questions! Sign up for a time slot for your child to bring you to work time! Click on the link below for open times. \n http://www.signupgenius.com/go/4090b48a8a92da6f94-bring2
URL:https://thesmarterkids.com/event/bring-your-parent-to-work-time-elementary-3/
LOCATION:Tallmadge Campus\, 158 North Avenue\, Tallmadge\, OH\, 44278\, United States
CATEGORIES:Tallmadge
END:VEVENT
BEGIN:VEVENT
DTSTART;VALUE=DATE:20180226
DTEND;VALUE=DATE:20180228
DTSTAMP:20260419T164756
CREATED:20190206T223237Z
LAST-MODIFIED:20190206T223237Z
UID:17065-1519671600-1519757999@thesmarterkids.com
SUMMARY:Elementary | Bring Your Parent to Work Time
DESCRIPTION:Parents\, it is your turn to join your child in the classroom! Bring Your Parent to Work Time is your opportunity to learn right along side your son or daughter. This time gives you a chance to work with your child on the skills they are mastering\, explore all that the Montessori Classroom has to offer and ask questions! Sign up for a time slot for your child to bring you to work time!
URL:https://thesmarterkids.com/event/elementary-bring-your-parent-to-work-time-10/
LOCATION:Tallmadge Campus\, 158 North Avenue\, Tallmadge\, OH\, 44278\, United States
CATEGORIES:Tallmadge
END:VEVENT
BEGIN:VEVENT
DTSTART;VALUE=DATE:20180226
DTEND;VALUE=DATE:20180228
DTSTAMP:20260419T164756
CREATED:20180927T231257Z
LAST-MODIFIED:20180927T231257Z
UID:14385-1519671600-1519757999@thesmarterkids.com
SUMMARY:Elementary | Bring Your Parent to Work Time
DESCRIPTION:Parents\, it is your turn to join your child in the classroom! Bring Your Parent to Work Time is your opportunity to learn right along side your son or daughter. This time gives you a chance to work with your child on the skills they are mastering\, explore all that the Montessori Classroom has to offer and ask questions! Sign up for a time slot for your child to bring you to work time!
URL:https://thesmarterkids.com/event/elementary-bring-your-parent-to-work-time-4/
LOCATION:Tallmadge Campus\, 158 North Avenue\, Tallmadge\, OH\, 44278\, United States
CATEGORIES:Tallmadge
END:VEVENT
BEGIN:VEVENT
DTSTART;VALUE=DATE:20180225
DTEND;VALUE=DATE:20180227
DTSTAMP:20260419T164756
CREATED:20190206T223236Z
LAST-MODIFIED:20190206T223236Z
UID:17064-1519585200-1519671599@thesmarterkids.com
SUMMARY:Elementary | Bring Your Parent to Work Time
DESCRIPTION:Parents\, it is your turn to join your child in the classroom! Bring Your Parent to Work Time is your opportunity to learn right along side your son or daughter. This time gives you a chance to work with your child on the skills they are mastering\, explore all that the Montessori Classroom has to offer and ask questions! Sign up for a time slot for your child to bring you to work time!
URL:https://thesmarterkids.com/event/elementary-bring-your-parent-to-work-time-9/
LOCATION:Tallmadge Campus\, 158 North Avenue\, Tallmadge\, OH\, 44278\, United States
CATEGORIES:Tallmadge
END:VEVENT
BEGIN:VEVENT
DTSTART;VALUE=DATE:20180225
DTEND;VALUE=DATE:20180227
DTSTAMP:20260419T164756
CREATED:20180927T231257Z
LAST-MODIFIED:20180927T231257Z
UID:14384-1519585200-1519671599@thesmarterkids.com
SUMMARY:Elementary | Bring Your Parent to Work Time
DESCRIPTION:Parents\, it is your turn to join your child in the classroom! Bring Your Parent to Work Time is your opportunity to learn right along side your son or daughter. This time gives you a chance to work with your child on the skills they are mastering\, explore all that the Montessori Classroom has to offer and ask questions! Sign up for a time slot for your child to bring you to work time!
URL:https://thesmarterkids.com/event/elementary-bring-your-parent-to-work-time-3/
LOCATION:Tallmadge Campus\, 158 North Avenue\, Tallmadge\, OH\, 44278\, United States
CATEGORIES:Tallmadge
END:VEVENT
BEGIN:VEVENT
DTSTART;TZID=America/New_York:20180222T033000
DTEND;TZID=America/New_York:20180222T093000
DTSTAMP:20260419T164756
CREATED:20170926T191214Z
LAST-MODIFIED:20170926T192932Z
UID:8452-1519270200-1519291800@thesmarterkids.com
SUMMARY:Bring Your Parent to Work Time | Ms. Courtney
DESCRIPTION:Parents\, it is your turn to join your child in the classroom! Bring Your Parent to Work Time is your opportunity to learn right along side your son or daughter. Participate in line time\, build with the Pink Tower and Brown Stairs\, explore all that the Montessori Classroom has to offer and ask questions!  Sign up for a time slot for your child to bring you to work time! Click on the link below for open times. \nhttp://www.signupgenius.com/go/4090b48a8a92da6f94-bring
URL:https://thesmarterkids.com/event/bring-your-parent-to-work-time-ms-courtney-5/
LOCATION:Tallmadge Campus\, 158 North Avenue\, Tallmadge\, OH\, 44278\, United States
CATEGORIES:Tallmadge
END:VEVENT
BEGIN:VEVENT
DTSTART;TZID=America/New_York:20180130T033000
DTEND;TZID=America/New_York:20180130T093000
DTSTAMP:20260419T164756
CREATED:20170926T191212Z
LAST-MODIFIED:20170926T193233Z
UID:8451-1517283000-1517304600@thesmarterkids.com
SUMMARY:Bring Your Parent to Work Time | Ms. Courtney
DESCRIPTION:Parents\, it is your turn to join your child in the classroom! Bring Your Parent to Work Time is your opportunity to learn right along side your son or daughter. Participate in line time\, build with the Pink Tower and Brown Stairs\, explore all that the Montessori Classroom has to offer and ask questions!  Sign up for a time slot for your child to bring you to work time! Click on the link below for open times. \nhttp://www.signupgenius.com/go/4090b48a8a92da6f94-bring
URL:https://thesmarterkids.com/event/bring-your-parent-to-work-time-ms-courtney-4/
LOCATION:Tallmadge Campus\, 158 North Avenue\, Tallmadge\, OH\, 44278\, United States
CATEGORIES:Tallmadge
END:VEVENT
BEGIN:VEVENT
DTSTART;VALUE=DATE:20180125
DTEND;VALUE=DATE:20180127
DTSTAMP:20260419T164756
CREATED:20170911T225328Z
LAST-MODIFIED:20170911T225328Z
UID:8128-1516906800-1516993199@thesmarterkids.com
SUMMARY:Dance | Session 2 Begins | Tallmadge
DESCRIPTION:
URL:https://thesmarterkids.com/event/dance-session-2-begins-tallmadge-2/
LOCATION:OH
CATEGORIES:Tallmadge
END:VEVENT
BEGIN:VEVENT
DTSTART;TZID=America/New_York:20171115T033000
DTEND;TZID=America/New_York:20171115T093000
DTSTAMP:20260419T164757
CREATED:20170926T191212Z
LAST-MODIFIED:20170926T193646Z
UID:8450-1510716600-1510738200@thesmarterkids.com
SUMMARY:Bring Your Parent to Work Time | Ms. Courtney
DESCRIPTION:Parents\, it is your turn to join your child in the classroom! Bring Your Parent to Work Time is your opportunity to learn right along side your son or daughter. Participate in line time\, build with the Pink Tower and Brown Stairs\, explore all that the Montessori Classroom has to offer and ask questions!  Sign up for a time slot for your child to bring you to work time! Click on the link below for open times. \nhttp://www.signupgenius.com/go/4090b48a8a92da6f94-bring
URL:https://thesmarterkids.com/event/bring-your-parent-to-work-time-ms-courtney-3/
LOCATION:Tallmadge Campus\, 158 North Avenue\, Tallmadge\, OH\, 44278\, United States
CATEGORIES:Tallmadge
END:VEVENT
BEGIN:VEVENT
DTSTART;TZID=America/New_York:20171031T103000
DTEND;TZID=America/New_York:20171031T110000
DTSTAMP:20260419T164757
CREATED:20171006T215853Z
LAST-MODIFIED:20171006T215853Z
UID:8893-1509445800-1509447600@thesmarterkids.com
SUMMARY:Absorbent Minds Elementary presents: "The Little Old Lady Who Was Not Afraid of Anything"
DESCRIPTION:Prepare yourselves for a silly Halloween play about a tough old lady’s walk home on a spooky evening\, narrated and performed by everyone’s favorite Elementary students! \nThe Elementary class will be performing for Ms. Courtney’s class at 2:30 pm.
URL:https://thesmarterkids.com/event/absorbent-minds-elementary-presents-little-old-lady-not-afraid-anything-2/
LOCATION:Tallmadge Campus\, 158 North Avenue\, Tallmadge\, OH\, 44278\, United States
CATEGORIES:Tallmadge
END:VEVENT
BEGIN:VEVENT
DTSTART;VALUE=DATE:20171029
DTEND;VALUE=DATE:20171104
DTSTAMP:20260419T164757
CREATED:20171011T191119Z
LAST-MODIFIED:20171011T191119Z
UID:8960-1509307200-1509739199@thesmarterkids.com
SUMMARY:Book Fair Week | Tallmadge
DESCRIPTION:
URL:https://thesmarterkids.com/event/book-fair-week-tallmadge-2/
LOCATION:Tallmadge Campus\, 158 North Avenue\, Tallmadge\, OH\, 44278\, United States
CATEGORIES:Tallmadge
END:VEVENT
BEGIN:VEVENT
DTSTART;TZID=America/New_York:20171023T043000
DTEND;TZID=America/New_York:20171023T103000
DTSTAMP:20260419T164757
CREATED:20170926T191212Z
LAST-MODIFIED:20170926T194548Z
UID:8449-1508733000-1508754600@thesmarterkids.com
SUMMARY:Bring Your Parent to Work Time | Ms. Courtney
DESCRIPTION:Parents\, it is your turn to join your child in the classroom! Bring Your Parent to Work Time is your opportunity to learn right along side your son or daughter. Participate in line time\, build with the Pink Tower and Brown Stairs\, explore all that the Montessori Classroom has to offer and ask questions!  Sign up for a time slot for your child to bring you to work time! Click on the link below for open times. \nhttp://www.signupgenius.com/go/4090b48a8a92da6f94-bring
URL:https://thesmarterkids.com/event/bring-your-parent-to-work-time-ms-courtney-2/
LOCATION:Tallmadge Campus\, 158 North Avenue\, Tallmadge\, OH\, 44278\, United States
CATEGORIES:Tallmadge
END:VEVENT
BEGIN:VEVENT
DTSTART;TZID=America/New_York:20171018T050000
DTEND;TZID=America/New_York:20171018T071500
DTSTAMP:20260419T164757
CREATED:20170926T191207Z
LAST-MODIFIED:20170926T194638Z
UID:8443-1508302800-1508310900@thesmarterkids.com
SUMMARY:Bring Your Parent to Work Time | Elementary
DESCRIPTION:Parents\, it is your turn to join your child in the classroom! Bring Your Parent to Work Time is your opportunity to learn right along side your son or daughter. This time gives you a chance to work with your child on the skills they are mastering\, explore all that the Montessori Classroom has to offer and ask questions! Sign up for a time slot for your child to bring you to work time! Click on the link below for open times. \n http://www.signupgenius.com/go/4090b48a8a92da6f94-bring2
URL:https://thesmarterkids.com/event/bring-your-parent-to-work-time-elementary-2/
LOCATION:Tallmadge Campus\, 158 North Avenue\, Tallmadge\, OH\, 44278\, United States
CATEGORIES:Tallmadge
END:VEVENT
BEGIN:VEVENT
DTSTART;TZID=America/New_York:20171017T050000
DTEND;TZID=America/New_York:20171017T071500
DTSTAMP:20260419T164757
CREATED:20170926T191207Z
LAST-MODIFIED:20170926T194842Z
UID:8442-1508216400-1508224500@thesmarterkids.com
SUMMARY:Bring Your Parent to Work Time | Elementary
DESCRIPTION:Parents\, it is your turn to join your child in the classroom! Bring Your Parent to Work Time is your opportunity to learn right along side your son or daughter. This time gives you a chance to work with your child on the skills they are mastering\, explore all that the Montessori Classroom has to offer and ask questions! Sign up for a time slot for your child to bring you to work time! Click on the link below for open times. \nhttp://www.signupgenius.com/go/4090b48a8a92da6f94-bring2
URL:https://thesmarterkids.com/event/bring-your-parent-to-work-time-elementary/
LOCATION:Tallmadge Campus\, 158 North Avenue\, Tallmadge\, OH\, 44278\, United States
CATEGORIES:Tallmadge
END:VEVENT
BEGIN:VEVENT
DTSTART;TZID=America/New_York:20171003T043000
DTEND;TZID=America/New_York:20171003T070000
DTSTAMP:20260419T164757
CREATED:20170427T204844Z
LAST-MODIFIED:20170427T204844Z
UID:7480-1507005000-1507014000@thesmarterkids.com
SUMMARY:School Picture Day | Tallmadge
DESCRIPTION:
URL:https://thesmarterkids.com/event/school-picture-day-tallmadge-2/
LOCATION:Tallmadge Campus\, 158 North Avenue\, Tallmadge\, OH\, 44278\, United States
CATEGORIES:Tallmadge
END:VEVENT
BEGIN:VEVENT
DTSTART;TZID=America/New_York:20170929T043000
DTEND;TZID=America/New_York:20170929T103000
DTSTAMP:20260419T164757
CREATED:20170926T191211Z
LAST-MODIFIED:20170926T195532Z
UID:8448-1506659400-1506681000@thesmarterkids.com
SUMMARY:Bring Your Parent to Work Time | Ms. Courtney
DESCRIPTION:Parents\, it is your turn to join your child in the classroom! Bring Your Parent to Work Time is your opportunity to learn right along side your son or daughter. Participate in line time\, build with the Pink Tower and Brown Stairs\, explore all that the Montessori Classroom has to offer and ask questions!  Sign up for a time slot for your child to bring you to work time! Click on the link below for open times. \nhttp://www.signupgenius.com/go/4090b48a8a92da6f94-bring
URL:https://thesmarterkids.com/event/bring-your-parent-to-work-time-ms-courtney/
LOCATION:Tallmadge Campus\, 158 North Avenue\, Tallmadge\, OH\, 44278\, United States
CATEGORIES:Tallmadge
END:VEVENT
BEGIN:VEVENT
DTSTART;VALUE=DATE:20170928
DTEND;VALUE=DATE:20170930
DTSTAMP:20260419T164757
CREATED:20170911T224131Z
LAST-MODIFIED:20170911T224131Z
UID:8118-1506628800-1506715199@thesmarterkids.com
SUMMARY:Dance | Session 1 Begins | Tallmadge
DESCRIPTION:
URL:https://thesmarterkids.com/event/dance-session-1-begins-tallmadge-2/
LOCATION:OH
CATEGORIES:Tallmadge
END:VEVENT
BEGIN:VEVENT
DTSTART;VALUE=DATE:20170917
DTEND;VALUE=DATE:20170919
DTSTAMP:20260419T164757
CREATED:20170911T220226Z
LAST-MODIFIED:20170911T220226Z
UID:8090-1505678400-1505764799@thesmarterkids.com
SUMMARY:Tae Kwon Do | Session 1 Begins
DESCRIPTION:
URL:https://thesmarterkids.com/event/tae-kwon-session-1-begins/
LOCATION:OH
CATEGORIES:All School,Cuyahoga Falls,Tallmadge
END:VEVENT
BEGIN:VEVENT
DTSTART;VALUE=DATE:20170914
DTEND;VALUE=DATE:20170916
DTSTAMP:20260419T164757
CREATED:20170911T223956Z
LAST-MODIFIED:20170911T223956Z
UID:8114-1505419200-1505505599@thesmarterkids.com
SUMMARY:Dance | Demo Day | Tallmadge
DESCRIPTION:
URL:https://thesmarterkids.com/event/dance-demo-day-tallmadge-2/
LOCATION:OH
CATEGORIES:Tallmadge
END:VEVENT
BEGIN:VEVENT
DTSTART;VALUE=DATE:20170910
DTEND;VALUE=DATE:20170912
DTSTAMP:20260419T164757
CREATED:20170911T220001Z
LAST-MODIFIED:20170911T220001Z
UID:8087-1505073600-1505159999@thesmarterkids.com
SUMMARY:Tae Kwon Do | Demo Day
DESCRIPTION:
URL:https://thesmarterkids.com/event/tae-kwon-demo-day/
LOCATION:OH
CATEGORIES:All School,Cuyahoga Falls,Tallmadge
END:VEVENT
BEGIN:VEVENT
DTSTART;VALUE=DATE:20170508
DTEND;VALUE=DATE:20170513
DTSTAMP:20260419T164757
CREATED:20160822T050321Z
LAST-MODIFIED:20160928T212155Z
UID:5599-1494273600-1494619199@thesmarterkids.com
SUMMARY:Tallmadge | Grandparents Week & Book Fair
DESCRIPTION:Grandparents tend to dote over their grandchildren and we like to feed into that pride by showing off your children for them every year. We invite all grandparents to attend Grandparent’s Day where they will spend time in the classroom with your child\, enjoy an Enrichment class\, such as Music or Science\, and create an art project to keep as a memento for years to come!
URL:https://thesmarterkids.com/event/tallmadge-grandparents-week-book-fair/
LOCATION:OH
CATEGORIES:Tallmadge
END:VEVENT
BEGIN:VEVENT
DTSTART;VALUE=DATE:20170417
DTEND;VALUE=DATE:20170419
DTSTAMP:20260419T164757
CREATED:20170119T205705Z
LAST-MODIFIED:20170119T205705Z
UID:6525-1492459200-1492545599@thesmarterkids.com
SUMMARY:Dance Class-Elementary Only | Tallmadge
DESCRIPTION:
URL:https://thesmarterkids.com/event/dance-class-elementary-tallmadge/
LOCATION:Tallmadge Campus\, 158 North Avenue\, Tallmadge\, OH\, 44278\, United States
CATEGORIES:Tallmadge
END:VEVENT
BEGIN:VEVENT
DTSTART;TZID=America/New_York:20170307T130000
DTEND;TZID=America/New_York:20170307T140000
DTSTAMP:20260419T164757
CREATED:20160822T050320Z
LAST-MODIFIED:20170227T190437Z
UID:5589-1488891600-1488895200@thesmarterkids.com
SUMMARY:Elementary "Showcase" Event | World's Fair
DESCRIPTION:This year\, Elementary students will be putting on a World’s Fair. They will be researching a country of their choice\, writing a report\, preparing a presentation\, and creating visual aids.  The students will need to dress in a costume that represents the country they are researching\, in any era.  We invite you to come and be a part of this special event!
URL:https://thesmarterkids.com/event/elementary-showcase-event/
LOCATION:Tallmadge Campus\, 158 North Avenue\, Tallmadge\, OH\, 44278\, United States
CATEGORIES:Tallmadge
END:VEVENT
BEGIN:VEVENT
DTSTART;VALUE=DATE:20170223
DTEND;VALUE=DATE:20170225
DTSTAMP:20260419T164757
CREATED:20161018T172758Z
LAST-MODIFIED:20170119T205102Z
UID:5961-1487876400-1487962799@thesmarterkids.com
SUMMARY:Dance Class-Primary Only | Tallmadge
DESCRIPTION:
URL:https://thesmarterkids.com/event/no-dance-class-tallmadge-2/
LOCATION:Tallmadge Campus\, 158 North Avenue\, Tallmadge\, OH\, 44278\, United States
CATEGORIES:Tallmadge
END:VEVENT
BEGIN:VEVENT
DTSTART;VALUE=DATE:20170223
DTEND;VALUE=DATE:20170225
DTSTAMP:20260419T164757
CREATED:20160525T201931Z
LAST-MODIFIED:20160914T055601Z
UID:5369-1487876400-1487962799@thesmarterkids.com
SUMMARY:No School for Elementary Students ONLY (Elementary P/T Conferences)
DESCRIPTION:
URL:https://thesmarterkids.com/event/no-school-for-elem-students-only-elem-pt-conferences/
LOCATION:OH
CATEGORIES:Tallmadge
END:VEVENT
BEGIN:VEVENT
DTSTART;TZID=America/New_York:20170218T040000
DTEND;TZID=America/New_York:20170218T070000
DTSTAMP:20260419T164757
CREATED:20160822T050319Z
LAST-MODIFIED:20160914T055601Z
UID:5584-1487390400-1487401200@thesmarterkids.com
SUMMARY:Tallamdge Open House
DESCRIPTION:Located inside St. Mark Lutheran Church\, on 91 just North of Tallmadge Circle\, we offer an unparalleled Montessori Preschool – 6th Grade education.  Language\, Math\, Science\, Geography\, Art\, Music\, Gymnastics\, Taekwondo\, Certified Teachers\, Custom Scheduling Options.
URL:https://thesmarterkids.com/event/tallamdge-open-house/
LOCATION:Tallmadge Campus\, 158 North Avenue\, Tallmadge\, OH\, 44278\, United States
CATEGORIES:Tallmadge
END:VEVENT
BEGIN:VEVENT
DTSTART;VALUE=DATE:20170126
DTEND;VALUE=DATE:20170128
DTSTAMP:20260419T164757
CREATED:20160921T221510Z
LAST-MODIFIED:20170119T204842Z
UID:5701-1485457200-1485543599@thesmarterkids.com
SUMMARY:Dance | Session 2 Begins | Tallmadge
DESCRIPTION:
URL:https://thesmarterkids.com/event/dance-session-2-begins-tallmadge/
LOCATION:Tallmadge Campus\, 158 North Avenue\, Tallmadge\, OH\, 44278\, United States
CATEGORIES:Tallmadge
END:VEVENT
BEGIN:VEVENT
DTSTART;VALUE=DATE:20161208
DTEND;VALUE=DATE:20161210
DTSTAMP:20260419T164757
CREATED:20160921T221510Z
LAST-MODIFIED:20160921T221510Z
UID:5699-1481223600-1481309999@thesmarterkids.com
SUMMARY:Dance | Parent Observation Day | Tallmadge
DESCRIPTION:Parents are welcome to join us for this class. Students will be eager to show off what they have learned so far!
URL:https://thesmarterkids.com/event/dance-parent-observation-day-tallmadge/
LOCATION:Tallmadge Campus\, 158 North Avenue\, Tallmadge\, OH\, 44278\, United States
CATEGORIES:Tallmadge
END:VEVENT
BEGIN:VEVENT
DTSTART;TZID=America/New_York:20161116T090000
DTEND;TZID=America/New_York:20161116T093000
DTSTAMP:20260419T164757
CREATED:20161108T011749Z
LAST-MODIFIED:20161108T011749Z
UID:6139-1479286800-1479288600@thesmarterkids.com
SUMMARY:Operation Christmas Child Packing Party | Tallmadge
DESCRIPTION:All students are invited to bring gifts and join us for our packing party.  If your child attends our primary (3-6 yr) program and does not normally attend on the day of our scheduled packing party\, they are invited to attend as long as they are accompanied by an adult for the duration of the event.
URL:https://thesmarterkids.com/event/operation-christmas-child-packing-party-tallmadge/
LOCATION:Tallmadge Campus\, 158 North Avenue\, Tallmadge\, OH\, 44278\, United States
CATEGORIES:Tallmadge
END:VEVENT
BEGIN:VEVENT
DTSTART;VALUE=DATE:20161031
DTEND;VALUE=DATE:20161105
DTSTAMP:20260419T164757
CREATED:20160822T050318Z
LAST-MODIFIED:20160928T211737Z
UID:5568-1477944000-1478289599@thesmarterkids.com
SUMMARY:Book Fair Week | Tallmadge
DESCRIPTION:
URL:https://thesmarterkids.com/event/book-fair-week-cuyahoga-falls/
LOCATION:Tallmadge Campus\, 158 North Avenue\, Tallmadge\, OH\, 44278\, United States
CATEGORIES:Tallmadge
END:VEVENT
END:VCALENDAR