BEGIN:VCALENDAR
VERSION:2.0
PRODID:-//Absorbent Minds Montessori School - ECPv6.15.1.1//NONSGML v1.0//EN
CALSCALE:GREGORIAN
METHOD:PUBLISH
X-ORIGINAL-URL:https://thesmarterkids.com
X-WR-CALDESC:Events for Absorbent Minds Montessori School
REFRESH-INTERVAL;VALUE=DURATION:PT1H
X-Robots-Tag:noindex
X-PUBLISHED-TTL:PT1H
BEGIN:VTIMEZONE
TZID:America/New_York
BEGIN:DAYLIGHT
TZOFFSETFROM:-0500
TZOFFSETTO:-0400
TZNAME:EDT
DTSTART:20180311T070000
END:DAYLIGHT
BEGIN:STANDARD
TZOFFSETFROM:-0400
TZOFFSETTO:-0500
TZNAME:EST
DTSTART:20181104T060000
END:STANDARD
BEGIN:DAYLIGHT
TZOFFSETFROM:-0500
TZOFFSETTO:-0400
TZNAME:EDT
DTSTART:20190310T070000
END:DAYLIGHT
BEGIN:STANDARD
TZOFFSETFROM:-0400
TZOFFSETTO:-0500
TZNAME:EST
DTSTART:20191103T060000
END:STANDARD
BEGIN:DAYLIGHT
TZOFFSETFROM:-0500
TZOFFSETTO:-0400
TZNAME:EDT
DTSTART:20200308T070000
END:DAYLIGHT
BEGIN:STANDARD
TZOFFSETFROM:-0400
TZOFFSETTO:-0500
TZNAME:EST
DTSTART:20201101T060000
END:STANDARD
END:VTIMEZONE
BEGIN:VEVENT
DTSTART;VALUE=DATE:20200408
DTEND;VALUE=DATE:20200410
DTSTAMP:20260419T131853
CREATED:20190826T194553Z
LAST-MODIFIED:20190826T194553Z
UID:19462-1586376000-1586462399@thesmarterkids.com
SUMMARY:Upper Elementary Field Trip | Great Lakes Science Center
DESCRIPTION:Third-Sixth graders will get to spend the day exploring the Great Lakes Science Center!
URL:https://thesmarterkids.com/event/upper-elementary-field-trip-great-lakes-science-center/
CATEGORIES:Tallmadge
END:VEVENT
BEGIN:VEVENT
DTSTART;TZID=America/New_York:20200401T043000
DTEND;TZID=America/New_York:20200401T103000
DTSTAMP:20260419T131853
CREATED:20190314T233639Z
LAST-MODIFIED:20200130T205002Z
UID:17891-1585715400-1585737000@thesmarterkids.com
SUMMARY:Prospective Parent Observation Day | Tallmadge
DESCRIPTION:
URL:https://thesmarterkids.com/event/prospective-parent-observation-day-tallmadge-2/
CATEGORIES:Tallmadge
END:VEVENT
BEGIN:VEVENT
DTSTART;VALUE=DATE:20200301
DTEND;VALUE=DATE:20200303
DTSTAMP:20260419T131853
CREATED:20190314T233641Z
LAST-MODIFIED:20190826T210449Z
UID:17894-1583089200-1583175599@thesmarterkids.com
SUMMARY:Elementary-Student Led Conferences | NO SCHOOL for Elementary Students
DESCRIPTION:
URL:https://thesmarterkids.com/event/elementary-student-led-conferences-no-school-for-elementary-students/
CATEGORIES:Tallmadge
END:VEVENT
BEGIN:VEVENT
DTSTART;VALUE=DATE:20200218
DTEND;VALUE=DATE:20200220
DTSTAMP:20260419T131853
CREATED:20190314T233636Z
LAST-MODIFIED:20190826T210443Z
UID:17890-1582052400-1582138799@thesmarterkids.com
SUMMARY:Prospective Parent Observation Day | Tallmadge
DESCRIPTION:
URL:https://thesmarterkids.com/event/prospective-parent-observation-day-tallmadge/
CATEGORIES:Tallmadge
END:VEVENT
BEGIN:VEVENT
DTSTART;VALUE=DATE:20200128
DTEND;VALUE=DATE:20200130
DTSTAMP:20260419T131853
CREATED:20190826T210516Z
LAST-MODIFIED:20190913T193604Z
UID:19514-1580238000-1580324399@thesmarterkids.com
SUMMARY:Dance Class | Session 2 Begins | Tallmadge
DESCRIPTION:Primary Ballet 9:45am-10:30am Elementary Kids Bop 10:30am-11:15am
URL:https://thesmarterkids.com/event/dance-class-session-2-begins-tallmadge/
CATEGORIES:Tallmadge
END:VEVENT
BEGIN:VEVENT
DTSTART;VALUE=DATE:20200122
DTEND;VALUE=DATE:20200124
DTSTAMP:20260419T131853
CREATED:20190826T194437Z
LAST-MODIFIED:20190826T194437Z
UID:19460-1579719600-1579805999@thesmarterkids.com
SUMMARY:Kindergarten & Lower Elementary Field Trip | Cleveland Museum of Natural History
DESCRIPTION:Kindergarten-Second grade will get to spend the day exploring the Cleveland Museum of Natural History!
URL:https://thesmarterkids.com/event/kindergarten-lower-elementary-field-trip-cleveland-museum-natural-history/
CATEGORIES:Cuyahoga Falls,Tallmadge
END:VEVENT
BEGIN:VEVENT
DTSTART;VALUE=DATE:20200108
DTEND;VALUE=DATE:20200110
DTSTAMP:20260419T131853
CREATED:20190826T194244Z
LAST-MODIFIED:20190826T194244Z
UID:19458-1578510000-1578596399@thesmarterkids.com
SUMMARY:Upper Elementary Field Trip | Dissection
DESCRIPTION:Third-Sixth graders will get to learn about and dissect a squid.
URL:https://thesmarterkids.com/event/upper-elementary-field-trip-dissection/
CATEGORIES:Tallmadge
END:VEVENT
BEGIN:VEVENT
DTSTART;VALUE=DATE:20191215
DTEND;VALUE=DATE:20191217
DTSTAMP:20260419T131853
CREATED:20190826T210529Z
LAST-MODIFIED:20191216T205634Z
UID:19525-1576436400-1576522799@thesmarterkids.com
SUMMARY:Taekwondo | Session 2 | Belt Test
DESCRIPTION:Parents are welcome to come watch their child test to the next level belt! Tallmadge: Elementary 1:00-1:30pm Primary 1:30-2:00pm
URL:https://thesmarterkids.com/event/taekwondo-session-2-belt-test/
CATEGORIES:Tallmadge
END:VEVENT
BEGIN:VEVENT
DTSTART;VALUE=DATE:20191020
DTEND;VALUE=DATE:20191026
DTSTAMP:20260419T131853
CREATED:20190314T233647Z
LAST-MODIFIED:20190909T164757Z
UID:17899-1571601600-1572033599@thesmarterkids.com
SUMMARY:Grandparents Week | Tallmadge
DESCRIPTION:Grandparents tend to dote over their grandchildren and we like to feed into that pride by showing off your children for them every year. We invite all grandparents to attend Grandparent’s Day where they will spend time in the classroom with your child\, enjoy an Enrichment class\, such as Music or Science\, and create an art project to keep as a memento for years to come! \n  \nElementary classes-Tuesday\, October 22nd \nMs. Courtney’s class-Thursday\, October 24th
URL:https://thesmarterkids.com/event/grandparents-week-tallmadge-2/
CATEGORIES:Tallmadge
END:VEVENT
BEGIN:VEVENT
DTSTART;TZID=America/New_York:20191017T043000
DTEND;TZID=America/New_York:20191017T070000
DTSTAMP:20260419T131853
CREATED:20190314T233621Z
LAST-MODIFIED:20190826T210424Z
UID:17876-1571286600-1571295600@thesmarterkids.com
SUMMARY:Picture Day | Tallmadge
DESCRIPTION:
URL:https://thesmarterkids.com/event/picture-day-tallmadge/
CATEGORIES:Tallmadge
END:VEVENT
BEGIN:VEVENT
DTSTART;VALUE=DATE:20191008
DTEND;VALUE=DATE:20191010
DTSTAMP:20260419T131853
CREATED:20190826T194033Z
LAST-MODIFIED:20190826T194033Z
UID:19456-1570564800-1570651199@thesmarterkids.com
SUMMARY:Upper Elementary Field Trip | Hale Farm
DESCRIPTION:Third-Sixth graders will spend the day exploring Hale Farm!
URL:https://thesmarterkids.com/event/upper-elementary-field-trip-hale-farm/
CATEGORIES:Tallmadge
END:VEVENT
BEGIN:VEVENT
DTSTART;VALUE=DATE:20190917
DTEND;VALUE=DATE:20190919
DTSTAMP:20260419T131853
CREATED:20190826T210511Z
LAST-MODIFIED:20190913T192929Z
UID:19509-1568750400-1568836799@thesmarterkids.com
SUMMARY:Dance Class | Session 1 Begins | Tallmadge
DESCRIPTION:Primary Ballet 9:45am-10:30am Primary & Elementary Kids Bop 10:30am-11:15am
URL:https://thesmarterkids.com/event/dance-class-session-1-begins-tallmadge/
CATEGORIES:Tallmadge
END:VEVENT
BEGIN:VEVENT
DTSTART;VALUE=DATE:20190516
DTEND;VALUE=DATE:20190518
DTSTAMP:20260419T131853
CREATED:20190206T223241Z
LAST-MODIFIED:20190206T223241Z
UID:17074-1558036800-1558123199@thesmarterkids.com
SUMMARY:Ms. Courtney |Bring Your Parent to Work Time
DESCRIPTION:Parents\, it is your turn to join your child in the classroom! Bring Your Parent to Work Time is your opportunity to learn right along side your son or daughter. Participate in line time\, build with the Pink Tower and Brown Stairs\, explore all that the Montessori Classroom has to offer and ask questions! ÿ Sign up for a time slot for your child to bring you to work time!
URL:https://thesmarterkids.com/event/ms-courtney-bring-your-parent-to-work-time-14/
LOCATION:Tallmadge Campus\, 158 North Avenue\, Tallmadge\, OH\, 44278\, United States
CATEGORIES:Tallmadge
END:VEVENT
BEGIN:VEVENT
DTSTART;VALUE=DATE:20190505
DTEND;VALUE=DATE:20190511
DTSTAMP:20260419T131853
CREATED:20180419T223452Z
LAST-MODIFIED:20190206T223232Z
UID:12920-1557086400-1557518399@thesmarterkids.com
SUMMARY:Tallmadge | Grandparents Week & Book Fair
DESCRIPTION:Grandparents tend to dote over their grandchildren and we like to feed into that pride by showing off your children for them every year. We invite all grandparents to attend Grandparent?s Day where they will spend time in the classroom with your child\, enjoy an Enrichment class\, such as Music or Science\, and create an art project to keep as a memento for years to come!
URL:https://thesmarterkids.com/event/tallmadge-grandparents-week-book-fair-2/
CATEGORIES:Tallmadge
END:VEVENT
BEGIN:VEVENT
DTSTART;VALUE=DATE:20190425
DTEND;VALUE=DATE:20190427
DTSTAMP:20260419T131853
CREATED:20190206T223240Z
LAST-MODIFIED:20190206T223240Z
UID:17073-1556222400-1556308799@thesmarterkids.com
SUMMARY:Ms. Courtney |Bring Your Parent to Work Time
DESCRIPTION:Parents\, it is your turn to join your child in the classroom! Bring Your Parent to Work Time is your opportunity to learn right along side your son or daughter. Participate in line time\, build with the Pink Tower and Brown Stairs\, explore all that the Montessori Classroom has to offer and ask questions! ÿ Sign up for a time slot for your child to bring you to work time!
URL:https://thesmarterkids.com/event/ms-courtney-bring-your-parent-to-work-time-13/
LOCATION:Tallmadge Campus\, 158 North Avenue\, Tallmadge\, OH\, 44278\, United States
CATEGORIES:Tallmadge
END:VEVENT
BEGIN:VEVENT
DTSTART;VALUE=DATE:20190409
DTEND;VALUE=DATE:20190411
DTSTAMP:20260419T131853
CREATED:20180927T231321Z
LAST-MODIFIED:20190206T223300Z
UID:14431-1554840000-1554926399@thesmarterkids.com
SUMMARY:Dance | Parent Observation Day | Tallmadge
DESCRIPTION:Parents are welcome to join us for this class. Students will be eager to show off what they have learned!
URL:https://thesmarterkids.com/event/dance-parent-observation-day-tallmadge-3/
CATEGORIES:Tallmadge
END:VEVENT
BEGIN:VEVENT
DTSTART;TZID=America/New_York:20190409T053000
DTEND;TZID=America/New_York:20190409T090000
DTSTAMP:20260419T131853
CREATED:20180827T200122Z
LAST-MODIFIED:20180827T200122Z
UID:13617-1554787800-1554800400@thesmarterkids.com
SUMMARY:Elementary Field Trip | McKinley Museum
DESCRIPTION:Students will gain knowledge of Ohio history\, the solar system\, and prehistoric life. \nTransportation will be provided.
URL:https://thesmarterkids.com/event/elementary-field-trip-mckinley-museum/
LOCATION:McKinley Museum\, 800 McKinley Monument Dr. NW\, Canton\, OH\, 44708\, United States
CATEGORIES:Tallmadge
END:VEVENT
BEGIN:VEVENT
DTSTART;TZID=America/New_York:20190318T140000
DTEND;TZID=America/New_York:20190318T150000
DTSTAMP:20260419T131853
CREATED:20180419T223448Z
LAST-MODIFIED:20190318T185720Z
UID:12912-1552917600-1552921200@thesmarterkids.com
SUMMARY:Elementary Event | Wax Museum
DESCRIPTION:Students have selected a historical figure to research and write a paper on in their classrooms. To present their research in a creative way and bring their historical figure to life\, these students will be dressed as their person and pose as a wax figure at the event. When you walk up to their display\, simply hit their button and they will come alive and share about their person’s life and contributions.\n\nThis year\, our Kindergarten students are joining the Elementary students for this event. It is their first time learning how to research and put a report together\, complete with a bibliography! We are very proud of them!\n\n\nBAKE SALE: Cookies and baked goods will be available for donation to support next year’s upper elementary class trip!\n\nYou don’t want to miss out on this fun time! Be sure to invite family and friends to meet all of our historical figures!!
URL:https://thesmarterkids.com/event/elementary-event-wax-museum/
CATEGORIES:Tallmadge
END:VEVENT
BEGIN:VEVENT
DTSTART;VALUE=DATE:20190314
DTEND;VALUE=DATE:20190316
DTSTAMP:20260419T131853
CREATED:20190206T223240Z
LAST-MODIFIED:20190206T223240Z
UID:17072-1552593600-1552679999@thesmarterkids.com
SUMMARY:Ms. Courtney |Bring Your Parent to Work Time
DESCRIPTION:Parents\, it is your turn to join your child in the classroom! Bring Your Parent to Work Time is your opportunity to learn right along side your son or daughter. Participate in line time\, build with the Pink Tower and Brown Stairs\, explore all that the Montessori Classroom has to offer and ask questions! ÿ Sign up for a time slot for your child to bring you to work time!
URL:https://thesmarterkids.com/event/ms-courtney-bring-your-parent-to-work-time-12/
LOCATION:Tallmadge Campus\, 158 North Avenue\, Tallmadge\, OH\, 44278\, United States
CATEGORIES:Tallmadge
END:VEVENT
BEGIN:VEVENT
DTSTART;VALUE=DATE:20190303
DTEND;VALUE=DATE:20190305
DTSTAMP:20260419T131853
CREATED:20180419T223447Z
LAST-MODIFIED:20190220T023606Z
UID:12910-1551639600-1551725999@thesmarterkids.com
SUMMARY:No School for Elementary Students ONLY (Elementary P/T Conferences)
DESCRIPTION:
URL:https://thesmarterkids.com/event/no-school-for-elementary-students-only-elementary-p-t-conferences/
CATEGORIES:Tallmadge
END:VEVENT
BEGIN:VEVENT
DTSTART;VALUE=DATE:20190221
DTEND;VALUE=DATE:20190223
DTSTAMP:20260419T131853
CREATED:20180927T231300Z
LAST-MODIFIED:20180927T231605Z
UID:14391-1550775600-1550861999@thesmarterkids.com
SUMMARY:Ms. Courtney | Bring Your Parent to Work Time
DESCRIPTION:Parents\, it is your turn to join your child in the classroom! Bring Your Parent to Work Time is your opportunity to learn right along side your son or daughter. Participate in line time\, build with the Pink Tower and Brown Stairs\, explore all that the Montessori Classroom has to offer and ask questions! ÿ Sign up for a time slot for your child to bring you to work time!
URL:https://thesmarterkids.com/event/ms-courtney-bring-your-parent-to-work-time-4/
LOCATION:Tallmadge Campus\, 158 North Avenue\, Tallmadge\, OH\, 44278\, United States
CATEGORIES:Tallmadge
END:VEVENT
BEGIN:VEVENT
DTSTART;TZID=America/New_York:20190220T033000
DTEND;TZID=America/New_York:20190220T093000
DTSTAMP:20260419T131853
CREATED:20190114T195549Z
LAST-MODIFIED:20190117T231526Z
UID:16563-1550633400-1550655000@thesmarterkids.com
SUMMARY:Prospective Parent Observation Day | Tallmadge Campus
DESCRIPTION:
URL:https://thesmarterkids.com/event/new-parent-observation-day-tallmadge-campus/
CATEGORIES:Tallmadge
END:VEVENT
BEGIN:VEVENT
DTSTART;VALUE=DATE:20190124
DTEND;VALUE=DATE:20190126
DTSTAMP:20260419T131853
CREATED:20190206T223239Z
LAST-MODIFIED:20190206T223239Z
UID:17070-1548356400-1548442799@thesmarterkids.com
SUMMARY:Ms. Courtney |Bring Your Parent to Work Time
DESCRIPTION:Parents\, it is your turn to join your child in the classroom! Bring Your Parent to Work Time is your opportunity to learn right along side your son or daughter. Participate in line time\, build with the Pink Tower and Brown Stairs\, explore all that the Montessori Classroom has to offer and ask questions! ÿ Sign up for a time slot for your child to bring you to work time!
URL:https://thesmarterkids.com/event/ms-courtney-bring-your-parent-to-work-time-10/
LOCATION:Tallmadge Campus\, 158 North Avenue\, Tallmadge\, OH\, 44278\, United States
CATEGORIES:Tallmadge
END:VEVENT
BEGIN:VEVENT
DTSTART;VALUE=DATE:20181129
DTEND;VALUE=DATE:20181201
DTSTAMP:20260419T131853
CREATED:20180927T231259Z
LAST-MODIFIED:20180927T232332Z
UID:14389-1543518000-1543604399@thesmarterkids.com
SUMMARY:Ms. Courtney | Bring Your Parent to Work Time
DESCRIPTION:Parents\, it is your turn to join your child in the classroom! Bring Your Parent to Work Time is your opportunity to learn right along side your son or daughter. Participate in line time\, build with the Pink Tower and Brown Stairs\, explore all that the Montessori Classroom has to offer and ask questions! ÿ Sign up for a time slot for your child to bring you to work time!
URL:https://thesmarterkids.com/event/ms-courtney-bring-your-parent-to-work-time-2/
LOCATION:Tallmadge Campus\, 158 North Avenue\, Tallmadge\, OH\, 44278\, United States
CATEGORIES:Tallmadge
END:VEVENT
BEGIN:VEVENT
DTSTART;VALUE=DATE:20181029
DTEND;VALUE=DATE:20181103
DTSTAMP:20260419T131853
CREATED:20181004T194343Z
LAST-MODIFIED:20181004T194343Z
UID:14705-1540843200-1541188799@thesmarterkids.com
SUMMARY:Book Fair Week | Tallmadge Campus
DESCRIPTION:
URL:https://thesmarterkids.com/event/book-fair-week-tallmadge-campus/
CATEGORIES:Tallmadge
END:VEVENT
BEGIN:VEVENT
DTSTART;VALUE=DATE:20181018
DTEND;VALUE=DATE:20181020
DTSTAMP:20260419T131853
CREATED:20180927T231258Z
LAST-MODIFIED:20180927T232501Z
UID:14388-1539892800-1539979199@thesmarterkids.com
SUMMARY:Ms. Courtney | Bring Your Parent to Work Time
DESCRIPTION:Parents\, it is your turn to join your child in the classroom! Bring Your Parent to Work Time is your opportunity to learn right along side your son or daughter. Participate in line time\, build with the Pink Tower and Brown Stairs\, explore all that the Montessori Classroom has to offer and ask questions! ÿ Sign up for a time slot for your child to bring you to work time!
URL:https://thesmarterkids.com/event/ms-courtney-bring-your-parent-to-work-time/
LOCATION:Tallmadge Campus\, 158 North Avenue\, Tallmadge\, OH\, 44278\, United States
CATEGORIES:Tallmadge
END:VEVENT
BEGIN:VEVENT
DTSTART;VALUE=DATE:20181016
DTEND;VALUE=DATE:20181018
DTSTAMP:20260419T131853
CREATED:20190206T223235Z
LAST-MODIFIED:20190206T223235Z
UID:17063-1539720000-1539806399@thesmarterkids.com
SUMMARY:Elementary | Bring Your Parent to Work Time
DESCRIPTION:Parents\, it is your turn to join your child in the classroom! Bring Your Parent to Work Time is your opportunity to learn right along side your son or daughter. This time gives you a chance to work with your child on the skills they are mastering\, explore all that the Montessori Classroom has to offer and ask questions! Sign up for a time slot for your child to bring you to work time!
URL:https://thesmarterkids.com/event/elementary-bring-your-parent-to-work-time-8/
LOCATION:Tallmadge Campus\, 158 North Avenue\, Tallmadge\, OH\, 44278\, United States
CATEGORIES:Tallmadge
END:VEVENT
BEGIN:VEVENT
DTSTART;VALUE=DATE:20181015
DTEND;VALUE=DATE:20181017
DTSTAMP:20260419T131853
CREATED:20190206T223235Z
LAST-MODIFIED:20190206T223235Z
UID:17062-1539633600-1539719999@thesmarterkids.com
SUMMARY:Elementary | Bring Your Parent to Work Time
DESCRIPTION:Parents\, it is your turn to join your child in the classroom! Bring Your Parent to Work Time is your opportunity to learn right along side your son or daughter. This time gives you a chance to work with your child on the skills they are mastering\, explore all that the Montessori Classroom has to offer and ask questions! Sign up for a time slot for your child to bring you to work time!
URL:https://thesmarterkids.com/event/elementary-bring-your-parent-to-work-time-7/
LOCATION:Tallmadge Campus\, 158 North Avenue\, Tallmadge\, OH\, 44278\, United States
CATEGORIES:Tallmadge
END:VEVENT
BEGIN:VEVENT
DTSTART;TZID=America/New_York:20181009T050000
DTEND;TZID=America/New_York:20181009T100000
DTSTAMP:20260419T131853
CREATED:20180827T195353Z
LAST-MODIFIED:20180827T195353Z
UID:13609-1539061200-1539079200@thesmarterkids.com
SUMMARY:Elementary Field Trip | Cleveland Zoo
DESCRIPTION:Students will complete an inquiry-driven\, self-guided program to learn about the interaction between African animals and their environment. \nTransportation will be provided.
URL:https://thesmarterkids.com/event/elementary-field-trip-cleveland-zoo/
LOCATION:Cleveland Zoo\, 3900 Wildlife Way\, Cleveland\, OH\, 44109\, United States
CATEGORIES:Tallmadge
END:VEVENT
BEGIN:VEVENT
DTSTART;TZID=America/New_York:20180926T043000
DTEND;TZID=America/New_York:20180926T070000
DTSTAMP:20260419T131853
CREATED:20190206T223219Z
LAST-MODIFIED:20190206T223219Z
UID:17044-1537936200-1537945200@thesmarterkids.com
SUMMARY:School Picture Day | Tallmadge
DESCRIPTION:
URL:https://thesmarterkids.com/event/school-picture-day-tallmadge-5/
LOCATION:Tallmadge Campus\, 158 North Avenue\, Tallmadge\, OH\, 44278\, United States
CATEGORIES:Tallmadge
END:VEVENT
END:VCALENDAR