BEGIN:VCALENDAR
VERSION:2.0
PRODID:-//Absorbent Minds Montessori School - ECPv6.15.1.1//NONSGML v1.0//EN
CALSCALE:GREGORIAN
METHOD:PUBLISH
X-WR-CALNAME:Absorbent Minds Montessori School
X-ORIGINAL-URL:https://thesmarterkids.com
X-WR-CALDESC:Events for Absorbent Minds Montessori School
REFRESH-INTERVAL;VALUE=DURATION:PT1H
X-Robots-Tag:noindex
X-PUBLISHED-TTL:PT1H
BEGIN:VTIMEZONE
TZID:America/New_York
BEGIN:DAYLIGHT
TZOFFSETFROM:-0500
TZOFFSETTO:-0400
TZNAME:EDT
DTSTART:20130310T070000
END:DAYLIGHT
BEGIN:STANDARD
TZOFFSETFROM:-0400
TZOFFSETTO:-0500
TZNAME:EST
DTSTART:20131103T060000
END:STANDARD
BEGIN:DAYLIGHT
TZOFFSETFROM:-0500
TZOFFSETTO:-0400
TZNAME:EDT
DTSTART:20140309T070000
END:DAYLIGHT
BEGIN:STANDARD
TZOFFSETFROM:-0400
TZOFFSETTO:-0500
TZNAME:EST
DTSTART:20141102T060000
END:STANDARD
END:VTIMEZONE
BEGIN:VEVENT
DTSTART;VALUE=DATE:20140120
DTEND;VALUE=DATE:20140122
DTSTAMP:20260420T202119
CREATED:20131021T043258Z
LAST-MODIFIED:20131021T043258Z
UID:168-1390244400-1390330799@thesmarterkids.com
SUMMARY:Box Tops Collection
DESCRIPTION:
URL:https://thesmarterkids.com/event/box-tops-collection-2/
CATEGORIES:All School,Cuyahoga Falls,Tallmadge
END:VEVENT
BEGIN:VEVENT
DTSTART;VALUE=DATE:20140119
DTEND;VALUE=DATE:20140121
DTSTAMP:20260420T202119
CREATED:20131021T042904Z
LAST-MODIFIED:20131021T042904Z
UID:163-1390158000-1390244399@thesmarterkids.com
SUMMARY:Martin Luther King Day | NO SCHOOL
DESCRIPTION:
URL:https://thesmarterkids.com/event/martin-luther-king-day-no-school/
CATEGORIES:All School,Cuyahoga Falls,No School,Tallmadge
END:VEVENT
BEGIN:VEVENT
DTSTART;VALUE=DATE:20140105
DTEND;VALUE=DATE:20140107
DTSTAMP:20260420T202119
CREATED:20131021T042830Z
LAST-MODIFIED:20131021T042830Z
UID:162-1388948400-1389034799@thesmarterkids.com
SUMMARY:School Resumes
DESCRIPTION:
URL:https://thesmarterkids.com/event/school-resumes/
CATEGORIES:All School,Cuyahoga Falls,Tallmadge
END:VEVENT
BEGIN:VEVENT
DTSTART;VALUE=DATE:20131222
DTEND;VALUE=DATE:20140104
DTSTAMP:20260420T202119
CREATED:20131021T042751Z
LAST-MODIFIED:20131021T042751Z
UID:161-1387738800-1388775599@thesmarterkids.com
SUMMARY:Christmas / New Years Break | NO SCHOOL
DESCRIPTION:
URL:https://thesmarterkids.com/event/christmas-new-years-break-no-school/
CATEGORIES:All School,Cuyahoga Falls,No School,Tallmadge
END:VEVENT
BEGIN:VEVENT
DTSTART;TZID=America/New_York:20131213T013000
DTEND;TZID=America/New_York:20131213T153000
DTSTAMP:20260420T202119
CREATED:20131021T042639Z
LAST-MODIFIED:20131021T042639Z
UID:160-1386898200-1386948600@thesmarterkids.com
SUMMARY:Christmas Program
DESCRIPTION:
URL:https://thesmarterkids.com/event/christmas-program/
CATEGORIES:All School,Cuyahoga Falls,Tallmadge
END:VEVENT
BEGIN:VEVENT
DTSTART;TZID=America/New_York:20131212T130000
DTEND;TZID=America/New_York:20131212T150000
DTSTAMP:20260420T202119
CREATED:20131021T042556Z
LAST-MODIFIED:20131021T042556Z
UID:159-1386853200-1386860400@thesmarterkids.com
SUMMARY:Christmas Program Rehearsal
DESCRIPTION:
URL:https://thesmarterkids.com/event/christmas-program-rehearsal/
CATEGORIES:All School,Cuyahoga Falls,Tallmadge
END:VEVENT
BEGIN:VEVENT
DTSTART;TZID=America/New_York:20131206T133000
DTEND;TZID=America/New_York:20131206T170000
DTSTAMP:20260420T202119
CREATED:20131021T042443Z
LAST-MODIFIED:20131021T042443Z
UID:158-1386336600-1386349200@thesmarterkids.com
SUMMARY:Hero Night
DESCRIPTION:
URL:https://thesmarterkids.com/event/hero-night-2/
LOCATION:Cuyahoga Falls Campus\, 130 Broad Blvd\, Cuyahoga Falls\, OH\, 44221\, United States
CATEGORIES:All School
END:VEVENT
BEGIN:VEVENT
DTSTART;VALUE=DATE:20131127
DTEND;VALUE=DATE:20131130
DTSTAMP:20260420T202119
CREATED:20131021T034357Z
LAST-MODIFIED:20131021T034357Z
UID:154-1385578800-1385751599@thesmarterkids.com
SUMMARY:Thanksgiving Holiday - NO SCHOOL
DESCRIPTION:
URL:https://thesmarterkids.com/event/thanksgiving-holiday-no-school/
CATEGORIES:All School,Cuyahoga Falls,No School,Tallmadge
END:VEVENT
BEGIN:VEVENT
DTSTART;TZID=America/New_York:20131127T070000
DTEND;TZID=America/New_York:20131127T120000
DTSTAMP:20260420T202119
CREATED:20131021T034306Z
LAST-MODIFIED:20131021T034306Z
UID:153-1385535600-1385553600@thesmarterkids.com
SUMMARY:Thanksgiving Feast - Early Dismissal 12pm - NO AFTERCARE
DESCRIPTION:
URL:https://thesmarterkids.com/event/thanksgiving-feast-early-dismissal-12pm-no-aftercare/
CATEGORIES:All School,Cuyahoga Falls,Tallmadge
END:VEVENT
BEGIN:VEVENT
DTSTART;VALUE=DATE:20131110
DTEND;VALUE=DATE:20131112
DTSTAMP:20260420T202119
CREATED:20131021T034135Z
LAST-MODIFIED:20131021T034135Z
UID:152-1384110000-1384196399@thesmarterkids.com
SUMMARY:Parent / Teacher Conferences - No School
DESCRIPTION:
URL:https://thesmarterkids.com/event/parent-teacher-conferences-no-school/
CATEGORIES:All School,Cuyahoga Falls,No School,Tallmadge
END:VEVENT
BEGIN:VEVENT
DTSTART;TZID=America/New_York:20131031T043000
DTEND;TZID=America/New_York:20131031T080000
DTSTAMP:20260420T202119
CREATED:20131021T023520Z
LAST-MODIFIED:20191003T220137Z
UID:151-1383193800-1383206400@thesmarterkids.com
SUMMARY:Halloween Party
DESCRIPTION:Dear Families\, \nWe will be having a Halloween Party at the school\, thanks to the thousand oaks birthday parties planners it will be held on Thursday\, October 31st from 8:30 am-12:00 pm. We hope you can join us for this fun event! If your child does not normally attend school on this day\, they are welcome to join us for the party as long as an adult accompanies them for the duration of the party. \n\nFestivities\nOur students and staff will be dressing up and enjoying a morning of exciting activities. We are planning on having a Halloween parade of costumes\, a balloon sculpting singapore service\, themed activities\, crafts and a fun lunch together. \nFood\nThe school will be providing pizza. Half Day students are invited to join us for lunch from 11:00-12:00. There may also be a sign up sheet on your teacher’s door (beginning on Monday) if there are items or volunteers needed for the party and/or crafts and activities. \nCostumes\nPlease bring your child “in costume” in the morning. If your child is a Full Day Student on Thursday\, please pack a change of clothes for him or her to wear the second half of the afternoon. \nWe want all students to enjoy wearing their costumes to school. Your child will not be permitted to wear any gory\, gruesome or bloody costumes/makeup. If your child comes to school with any type of fake blood\, scary or inappropriate costume they will have to change into their normal clothes for the remainder of the school day. We ask that parents refrain from bringing any plastic swords\, light sabers and pretend weapons of any kind. These items will not be permitted in the classroom. If your child is wearing a dress or skirt\, please have them wear stretch pants or shorts underneath. \nItems to remember: \n\nStudents will NOT need to bring a packed lunch the day of the party.\nPlease bring in a bag or a container for the candy they will collect during the parade.(pillow case\, plastic pumpkins\, etc) LABEL YOUR CONTAINER!\nPlease pack a change of clothes (Full Day Thursday Students)\n\nWe are looking forward to seeing who will show up to our party this year! I have already heard mumblings in the hallways of what students are planning to dress up as. I think we may see a cowboy\, some princesses\, and an ice cream cone too! \nIf you have any questions please let us know\, \nKelly
URL:https://thesmarterkids.com/event/halloween-party/
CATEGORIES:All School,Cuyahoga Falls,Tallmadge
END:VEVENT
BEGIN:VEVENT
DTSTART;VALUE=DATE:20131027
DTEND;VALUE=DATE:20131029
DTSTAMP:20260420T202119
CREATED:20131021T022444Z
LAST-MODIFIED:20131021T022444Z
UID:149-1382904000-1382990399@thesmarterkids.com
SUMMARY:Box Tops Collection
DESCRIPTION:
URL:https://thesmarterkids.com/event/box-tops-collection/
CATEGORIES:All School
END:VEVENT
END:VCALENDAR